BEGIN:VCALENDAR
VERSION:2.0
PRODID:-//OSP - Observatório de Segurança Pública e Relações Comunitárias - ECPv6.15.18//NONSGML v1.0//EN
CALSCALE:GREGORIAN
METHOD:PUBLISH
X-ORIGINAL-URL:https://www.observatoriodeseguranca.org
X-WR-CALDESC:Eventos para OSP - Observatório de Segurança Pública e Relações Comunitárias
REFRESH-INTERVAL;VALUE=DURATION:PT1H
X-Robots-Tag:noindex
X-PUBLISHED-TTL:PT1H
BEGIN:VTIMEZONE
TZID:America/Sao_Paulo
BEGIN:STANDARD
TZOFFSETFROM:-0300
TZOFFSETTO:-0300
TZNAME:-03
DTSTART:20220101T000000
END:STANDARD
END:VTIMEZONE
BEGIN:VEVENT
DTSTART;TZID=America/Sao_Paulo:20230817T140000
DTEND;TZID=America/Sao_Paulo:20230817T160000
DTSTAMP:20260421T071909
CREATED:20230726T020614Z
LAST-MODIFIED:20230726T020617Z
UID:11859-1692280800-1692288000@www.observatoriodeseguranca.org
SUMMARY:Encontro GESP
DESCRIPTION:FOUCAULT\, Michel. Polêmica\, Política e Problematizações. In: __________. Ditos e Escritos V: Ética\, Sexualidade\, Política. Rio de Janeiro: Forense Universitária\, 2004\, p. 225-233.FOUCAULT\, Michel. Introdução. In: __________. História da sexualidade: O uso dos prazeres (Vol. 2). Rio de Janeiro: Edições Graal\, 2014\, p. 9-31.
URL:https://www.observatoriodeseguranca.org/evento/encontro-gesp/
LOCATION:Online
END:VEVENT
BEGIN:VEVENT
DTSTART;TZID=America/Sao_Paulo:20230830T140000
DTEND;TZID=America/Sao_Paulo:20230830T160000
DTSTAMP:20260421T071909
CREATED:20230824T161905Z
LAST-MODIFIED:20230824T162247Z
UID:12384-1693404000-1693411200@www.observatoriodeseguranca.org
SUMMARY:OSPET CINE apresenta: "Irmandade" com Vinicius Figueiredo e Eduardo Dyna
DESCRIPTION:OSPET CINE apresenta: “Irmandade” com Vinicius Figueiredo e Eduardo Dyna.Dia 30/08 às 14h na sala 02 do prédio novo (UNESP).Organização:OSP – Observatório de Segurança Pública da UNESPPET Relações Internacionais UNESP MaríliaPET Ciências Sociais UNESP Marília
URL:https://www.observatoriodeseguranca.org/evento/ospet-cine-apresenta-irmandade-com-vinicius-figueiredo-e-eduardo-dyna/
ATTACH;FMTTYPE=image/jpeg:https://www.observatoriodeseguranca.org/wp-content/uploads/2023/08/Imagem-do-WhatsApp-de-2023-08-24-as-12.51.46.jpg
END:VEVENT
END:VCALENDAR